BEGIN:VCALENDAR
VERSION:2.0
PRODID:-//eventon.com NONSGML v1.0//EN
CALSCALE:GREGORIAN
METHOD:PUBLISH
BEGIN:VEVENT
UID:69e5faf20f361
DTSTAMP:20260420T100746Z
DTSTART:20191017T160000Z
DTEND:20191017T220000Z
LOCATION:SilverLakes 5555 Hamner Ave\,  Norco\,  CA 92860
SUMMARY:EcoKrawl Presents Pumpkin Patch at SilverLakes
DESCRIPTION:Come visit our Huge Pumpkin Patch! Leading up to our Trunk or T
 reat event on October 26th\,  the Great Big Pumpkin Patch at @silverlakespa
 rk will be open from October 17th-31st. The Pumpkin Patch will have games a
 nd activities for kids of all ages!\nhttps://silverlakespark.com/events/eco
 krawl-presents-pumpkin-patch-at-silverlakes/
URL:https://silverlakespark.com/events/ecokrawl-presents-pumpkin-patch-at-silverlakes/
END:VEVENT
END:VCALENDAR