BEGIN:VCALENDAR
VERSION:2.0
PRODID:-//eventon.com NONSGML v1.0//EN
CALSCALE:GREGORIAN
METHOD:PUBLISH
BEGIN:VEVENT
UID:69e8fa39a8d41
DTSTAMP:20260422T164129Z
DTSTART:20170527
DTEND:20170528
LOCATION:SilverLakes 5555 Hamner Ave\,  Norco\,  CA 92860
SUMMARY:Cerritos Memorial Challenge Cup College Showcase
DESCRIPTION:Cerritos Memorial Challenge Cup 2017 presented by Nike As we en
 ter our 23rd Annual Event\,  we continue to strive to make this the best Me
 morial Day Weekend experience for all of the participants and their familie
 s. We anticipate over 700 teams participating in this year&#8217;s event. W
 e are officially Southern[..]\nhttps://silverlakespark.com/events/cerritos-
 memorial-challenge-cup-college-showcase/
URL:https://silverlakespark.com/events/cerritos-memorial-challenge-cup-college-showcase/
END:VEVENT
END:VCALENDAR