BEGIN:VCALENDAR
VERSION:2.0
PRODID:-//eventon.com NONSGML v1.0//EN
CALSCALE:GREGORIAN
METHOD:PUBLISH
BEGIN:VEVENT
UID:69e4dce34b7b5
DTSTAMP:20260419T134715Z
DTSTART:20180121T070000Z
DTEND:20180121T200000Z
LOCATION:SilverLakes 5555 Hamner Ave\,  Norco\,  CA 92860
SUMMARY:SilverLakes Winter Cup
DESCRIPTION:The 2018 SilverLakes Winter Youngers Cup will be held on Januar
 y 6 and 7\,  2018 at our premier 132-acre soccer facility. Our tournament i
 s the ideal winter tournament in Southern California to help teams prepare 
 for State and National Cup. Not only will we be hosting some of the best[..
 ]\nhttps://silverlakespark.com/events/silverlakes-winter-cup/
URL:https://silverlakespark.com/events/silverlakes-winter-cup/
END:VEVENT
END:VCALENDAR