BEGIN:VCALENDAR
VERSION:2.0
PRODID:-//eventon.com NONSGML v1.0//EN
CALSCALE:GREGORIAN
METHOD:PUBLISH
BEGIN:VEVENT
UID:69e890384b032
DTSTAMP:20260422T090912Z
DTSTART:20180223T180000Z
DTEND:20180223T191500Z
LOCATION:SilverLakes 5555 Hamner Ave\,  Norco\,  CA 92860
SUMMARY:SilverLakes Spring Academy
DESCRIPTION:SilverLakes Spring Academy\,  is an 8 week program on Friday’
 s beginning on 2/23/2018 from 6:00 p.m. to 7:15 p.m. The Academy is open to
  boys and girls born 2012-2003 of all skill levels. This program will focus
  on improving the individual player’s technical ability with the ball. We
  will work[..]\nhttps://silverlakespark.com/events/silverlakes-spring-acade
 my/
URL:https://silverlakespark.com/events/silverlakes-spring-academy/
END:VEVENT
END:VCALENDAR